{
 "currentVersion": 10.91,
 "serviceDescription": "Orthophotos_1989",
 "name": "Orthophotos_1989",
 "description": "",
 "extent": {
  "xmin": 1819999,
  "ymin": 660001,
  "xmax": 2029999,
  "ymax": 870001,
  "spatialReference": {
   "wkid": 2273,
   "latestWkid": 2273
  }
 },
 "initialExtent": {
  "xmin": 1819999,
  "ymin": 660001,
  "xmax": 2029999,
  "ymax": 870001,
  "spatialReference": {
   "wkid": 2273,
   "latestWkid": 2273
  }
 },
 "fullExtent": {
  "xmin": 1819999,
  "ymin": 660001,
  "xmax": 2029999,
  "ymax": 870001,
  "spatialReference": {
   "wkid": 2273,
   "latestWkid": 2273
  }
 },
 "hasMultidimensions": false,
 "timeInfo": {
  "startTimeField": "StartDate",
  "endTimeField": "EndDate",
  "timeExtent": [
   599616000000,
   609897600000
  ],
  "timeReference": null
 },
 "pixelSizeX": 2,
 "pixelSizeY": 2,
 "datasetFormat": "AMD",
 "uncompressedSize": 11025000000,
 "blockWidth": 2048,
 "blockHeight": 256,
 "compressionType": "None",
 "bandNames": [
  "Band_1"
 ],
 "allowCopy": true,
 "allowAnalysis": true,
 "bandCount": 1,
 "pixelType": "U8",
 "minPixelSize": 0.2170143229175347,
 "maxPixelSize": 434.0286458350694,
 "copyrightText": "",
 "serviceDataType": "esriImageServiceDataTypeProcessed",
 "serviceSourceType": "esriImageServiceSourceTypeMosaicDataset",
 "minValues": [],
 "maxValues": [],
 "meanValues": [],
 "stdvValues": [],
 "objectIdField": "OBJECTID",
 "fields": [
  {
   "name": "OBJECTID",
   "type": "esriFieldTypeOID",
   "alias": "OBJECTID",
   "domain": null
  },
  {
   "name": "Shape",
   "type": "esriFieldTypeGeometry",
   "alias": "Shape",
   "domain": null
  },
  {
   "name": "Name",
   "type": "esriFieldTypeString",
   "alias": "Name",
   "domain": null,
   "length": 50
  },
  {
   "name": "MinPS",
   "type": "esriFieldTypeDouble",
   "alias": "MinPS",
   "domain": null
  },
  {
   "name": "MaxPS",
   "type": "esriFieldTypeDouble",
   "alias": "MaxPS",
   "domain": null
  },
  {
   "name": "LowPS",
   "type": "esriFieldTypeDouble",
   "alias": "LowPS",
   "domain": null
  },
  {
   "name": "HighPS",
   "type": "esriFieldTypeDouble",
   "alias": "HighPS",
   "domain": null
  },
  {
   "name": "Category",
   "type": "esriFieldTypeInteger",
   "alias": "Category",
   "domain": {
    "type": "codedValue",
    "name": "MosaicCatalogItemCategoryDomain",
    "description": "Catalog item categories.",
    "codedValues": [
     {
      "name": "Unknown",
      "code": 0
     },
     {
      "name": "Primary",
      "code": 1
     },
     {
      "name": "Overview",
      "code": 2
     },
     {
      "name": "Unprocessed Overview",
      "code": 3
     },
     {
      "name": "Partial Overview",
      "code": 4
     },
     {
      "name": "Inactive",
      "code": 5
     },
     {
      "name": "Uploaded",
      "code": 253
     },
     {
      "name": "Incomplete",
      "code": 254
     },
     {
      "name": "Custom",
      "code": 255
     }
    ],
    "mergePolicy": "esriMPTDefaultValue",
    "splitPolicy": "esriSPTDefaultValue"
   }
  },
  {
   "name": "Tag",
   "type": "esriFieldTypeString",
   "alias": "Tag",
   "domain": null,
   "length": 20
  },
  {
   "name": "GroupName",
   "type": "esriFieldTypeString",
   "alias": "GroupName",
   "domain": null,
   "length": 50
  },
  {
   "name": "ProductName",
   "type": "esriFieldTypeString",
   "alias": "ProductName",
   "domain": null,
   "length": 50
  },
  {
   "name": "CenterX",
   "type": "esriFieldTypeDouble",
   "alias": "CenterX",
   "domain": null
  },
  {
   "name": "CenterY",
   "type": "esriFieldTypeDouble",
   "alias": "CenterY",
   "domain": null
  },
  {
   "name": "ZOrder",
   "type": "esriFieldTypeInteger",
   "alias": "ZOrder",
   "domain": null
  },
  {
   "name": "Shape_Length",
   "type": "esriFieldTypeDouble",
   "alias": "Shape_Length",
   "domain": null
  },
  {
   "name": "Shape_Area",
   "type": "esriFieldTypeDouble",
   "alias": "Shape_Area",
   "domain": null
  },
  {
   "name": "StartDate",
   "type": "esriFieldTypeDate",
   "alias": "Start Date",
   "domain": null,
   "length": 8
  },
  {
   "name": "EndDate",
   "type": "esriFieldTypeDate",
   "alias": "End Date",
   "domain": null,
   "length": 8
  }
 ],
 "capabilities": "Image,Metadata,Catalog",
 "defaultMosaicMethod": "Northwest",
 "allowedMosaicMethods": "NorthWest,Center,LockRaster,ByAttribute,Nadir,Viewpoint,Seamline,None",
 "sortField": "",
 "sortValue": null,
 "sortAscending": true,
 "mosaicOperator": "First",
 "maxDownloadSizeLimit": 2048,
 "defaultCompressionQuality": 75,
 "defaultResamplingMethod": "Bilinear",
 "maxImageHeight": 4100,
 "maxImageWidth": 15000,
 "maxRecordCount": 1000,
 "maxDownloadImageCount": 20,
 "maxMosaicImageCount": 44,
 "singleFusedMapCache": true,
 "tileInfo": {
  "rows": 256,
  "cols": 256,
  "dpi": 96,
  "format": "Mixed",
  "compressionQuality": 75,
  "origin": {
   "x": -122907600,
   "y": 157014500
  },
  "spatialReference": {
   "wkid": 2273,
   "latestWkid": 2273
  },
  "lods": [
   {
    "level": 0,
    "resolution": 434.0286458350694,
    "scale": 500000
   },
   {
    "level": 1,
    "resolution": 325.52148437630206,
    "scale": 375000
   },
   {
    "level": 2,
    "resolution": 217.0143229175347,
    "scale": 250000
   },
   {
    "level": 3,
    "resolution": 108.50716145876736,
    "scale": 125000
   },
   {
    "level": 4,
    "resolution": 82.46544270866319,
    "scale": 95000
   },
   {
    "level": 5,
    "resolution": 55.55566666688889,
    "scale": 64000
   },
   {
    "level": 6,
    "resolution": 27.777833333444445,
    "scale": 32000
   },
   {
    "level": 7,
    "resolution": 13.888916666722222,
    "scale": 16000
   },
   {
    "level": 8,
    "resolution": 6.944458333361111,
    "scale": 8000
   },
   {
    "level": 9,
    "resolution": 3.4722291666805556,
    "scale": 4000
   },
   {
    "level": 10,
    "resolution": 1.7361145833402778,
    "scale": 2000
   },
   {
    "level": 11,
    "resolution": 0.8680572916701389,
    "scale": 1000
   },
   {
    "level": 12,
    "resolution": 0.43402864583506945,
    "scale": 500
   },
   {
    "level": 13,
    "resolution": 0.21701432291753472,
    "scale": 250
   }
  ]
 },
 "storageInfo": {
  "storageFormat": "esriMapCacheStorageModeCompact",
  "packetSize": 128
 },
 "cacheType": "Map",
 "allowRasterFunction": true,
 "rasterFunctionInfos": [
  {
   "name": "None",
   "description": "",
   "help": ""
  }
 ],
 "rasterTypeInfos": [
  {
   "name": "Raster Dataset",
   "description": "Supports all ArcGIS Raster Datasets",
   "help": ""
  }
 ],
 "mensurationCapabilities": "None",
 "hasHistograms": false,
 "hasColormap": false,
 "hasRasterAttributeTable": false,
 "minScale": 500000,
 "maxScale": 250,
 "exportTilesAllowed": false,
 "supportsStatistics": true,
 "supportsAdvancedQueries": true,
 "editFieldsInfo": null,
 "ownershipBasedAccessControlForRasters": null,
 "allowComputeTiePoints": false,
 "useStandardizedQueries": true,
 "advancedQueryCapabilities": {
  "useStandardizedQueries": true,
  "supportsStatistics": true,
  "supportsOrderBy": true,
  "supportsDistinct": true,
  "supportsPagination": true
 },
 "spatialReference": {
  "wkid": 2273,
  "latestWkid": 2273
 }
}
